BEGIN:VCALENDAR
VERSION:2.0
PRODID:-//wp-events-plugin.com//7.2.3.1//EN
TZID:Europe/Berlin
X-WR-TIMEZONE:Europe/Berlin
BEGIN:VEVENT
UID:254@ayurveda-med.com
DTSTART;TZID=Europe/Berlin:20260401T000000
DTEND;TZID=Europe/Berlin:20260430T000000
DTSTAMP:20260323T095544Z
URL:https://ayurveda-med.com/events-2/begleitete-ayurveda-detox-kur-2026-0
 4/
SUMMARY:Begleitete Ayurveda Detox Kur – Transformiere Dich jetzt
DESCRIPTION:Begleitete Ayurveda Detox Kur für zu Hause mit Live-Webinaren 
 ab 07.04.26. Leberentlastung & Regeneration. Sei in der Gruppe dabei!
ATTACH;FMTTYPE=image/jpeg:https://ayurveda-med.com/wp-content/uploads/2024
 /02/iStock_000029694782Large-scaled.webp
CATEGORIES:Kur,Online,Webinar
LOCATION:https://ayurveda-med.com/resourcen/ayurveda-detox-kur/
END:VEVENT
BEGIN:VTIMEZONE
TZID:Europe/Berlin
X-LIC-LOCATION:Europe/Berlin
BEGIN:DAYLIGHT
DTSTART:20260329T030000
TZOFFSETFROM:+0100
TZOFFSETTO:+0200
TZNAME:CEST
END:DAYLIGHT
END:VTIMEZONE
END:VCALENDAR