BEGIN:VCALENDAR
VERSION:2.0
PRODID:-//wp-events-plugin.com//7.2.3.1//EN
TZID:Europe/Berlin
X-WR-TIMEZONE:Europe/Berlin
BEGIN:VEVENT
UID:256@ayurveda-med.com
DTSTART;TZID=Europe/Berlin:20260519T183000
DTEND;TZID=Europe/Berlin:20260519T200000
DTSTAMP:20260423T164524Z
URL:https://ayurveda-med.com/events-2/klang-meditation-heidelberg-2/
SUMMARY:Klang-Meditation Heidelberg
DESCRIPTION:Klang-Meditation in Heidelberg: Spüre die heilende Kraft des E
 rde-Gongs jeden Monat. 3 Phasen zur inneren Ruhe. Limitierte Plätze – j
 etzt buchen!
ATTACH;FMTTYPE=image/jpeg:https://ayurveda-med.com/wp-content/uploads/2026
 /01/Gong-Meditation.webp
LOCATION:LebensRaum Heidelberg\, Bergheimerstr. 104 | Eingang Mittermaierst
 raße (alte Zigarrenfabrik) \, Heidelberg\, Baden-Württemberg\, 69115\, G
 ermany
X-APPLE-STRUCTURED-LOCATION;VALUE=URI;X-ADDRESS=Bergheimerstr. 104 | Eingan
 g Mittermaierstraße (alte Zigarrenfabrik) \, Heidelberg\, Baden-Württemb
 erg\, 69115\, Germany;X-APPLE-RADIUS=100;X-TITLE=LebensRaum Heidelberg:geo
 :0,0
END:VEVENT
BEGIN:VTIMEZONE
TZID:Europe/Berlin
X-LIC-LOCATION:Europe/Berlin
BEGIN:DAYLIGHT
DTSTART:20260329T030000
TZOFFSETFROM:+0100
TZOFFSETTO:+0200
TZNAME:CEST
END:DAYLIGHT
END:VTIMEZONE
END:VCALENDAR